1
0
0
-1
1869554.5
454041.5
