1
0
0
-1
1851954.5
458400.5
