1
0
0
-1
1869910.5
469966.5
