1
0
0
-1
1875054.5
469842.5
