1
0
0
-1
1857418.5
475469.5
