1
0
0
-1
1895249.5
459052.5
