1
0
0
-1
1900565.5
464317.5
