1
0
0
-1
1890238.5
469655.5
