1
0
0
-1
1900683.5
469625.5
