1
0
0
-1
1900751.5
474955.5
