1
0
0
-1
1895547.5
480229.5
