1
0
0
-1
1841493.5
421225.5
