1
0
0
-1
1836143.5
421197.5
