1
0
0
-1
1830847.5
426352.5
