1
0
0
-1
1841385.5
426535.5
