1
0
0
-1
1841319.5
431767.5
