1
0
0
-1
1836014.5
431734.5
