1
0
0
-1
1830759.5
431674.5
