1
0
0
-1
1820375.5
431678.5
