1
0
0
-1
1825542.5
436923.5
