1
0
0
-1
1846574.5
437121.5
