1
0
0
-1
1841337.5
447690.5
