1
0
0
-1
1846590.5
447715.5
