1
0
0
-1
1873147.5
421510.5
