1
0
0
-1
1867890.5
421437.5
