1
0
0
-1
1851929.5
431777.5
