1
0
0
-1
1851892.5
447750.5
