1
0
0
-1
1910677.5
427290.5
