1
0
0
-1
1905436.5
432641.5
