1
0
0
-1
1885040.5
432758.5
