1
0
0
-1
1910757.5
437873.5
