1
0
0
-1
1910839.5
443179.5
