1
0
0
-1
1905530.5
443179.5
