1
0
0
-1
1900242.5
443162.5
