1
0
0
-1
1889782.5
448581.5
