1
0
0
-1
1942288.5
421930.5
