1
0
0
-1
1942345.5
427180.5
