1
0
0
-1
1937121.5
432412.5
