1
0
0
-1
1916087.5
437855.5
