1
0
0
-1
1942459.5
437697.5
