1
0
0
-1
1846804.5
400096.5
