1
0
0
-1
1862616.5
400289.5
