1
0
0
-1
1857336.5
405546.5
