1
0
0
-1
1862645.5
405588.5
