1
0
0
-1
1867861.5
410894.5
