1
0
0
-1
1910267.5
390377.5
