1
0
0
-1
1899752.5
395680.5
