1
0
0
-1
1894552.5
400973.5
