1
0
0
-1
1941945.5
390177.5
