1
0
0
-1
1931385.5
390227.5
